BEGIN:VCALENDAR
VERSION:2.0
PRODID:-//Los Angeles County Department of Children and Family Services - ECPv6.15.17.1//NONSGML v1.0//EN
CALSCALE:GREGORIAN
METHOD:PUBLISH
X-WR-CALNAME:Los Angeles County Department of Children and Family Services
X-ORIGINAL-URL:https://dcfs.lacounty.gov
X-WR-CALDESC:Events for Los Angeles County Department of Children and Family Services
REFRESH-INTERVAL;VALUE=DURATION:PT1H
X-Robots-Tag:noindex
X-PUBLISHED-TTL:PT1H
BEGIN:VTIMEZONE
TZID:America/Los_Angeles
BEGIN:DAYLIGHT
TZOFFSETFROM:-0800
TZOFFSETTO:-0700
TZNAME:PDT
DTSTART:20250309T100000
END:DAYLIGHT
BEGIN:STANDARD
TZOFFSETFROM:-0700
TZOFFSETTO:-0800
TZNAME:PST
DTSTART:20251102T090000
END:STANDARD
BEGIN:DAYLIGHT
TZOFFSETFROM:-0800
TZOFFSETTO:-0700
TZNAME:PDT
DTSTART:20260308T100000
END:DAYLIGHT
BEGIN:STANDARD
TZOFFSETFROM:-0700
TZOFFSETTO:-0800
TZNAME:PST
DTSTART:20261101T090000
END:STANDARD
BEGIN:DAYLIGHT
TZOFFSETFROM:-0800
TZOFFSETTO:-0700
TZNAME:PDT
DTSTART:20270314T100000
END:DAYLIGHT
BEGIN:STANDARD
TZOFFSETFROM:-0700
TZOFFSETTO:-0800
TZNAME:PST
DTSTART:20271107T090000
END:STANDARD
END:VTIMEZONE
BEGIN:VEVENT
DTSTART;TZID=America/Los_Angeles:20260307T103000
DTEND;TZID=America/Los_Angeles:20260307T123000
DTSTAMP:20260420T013232
CREATED:20260205T222322Z
LAST-MODIFIED:20260227T185148Z
UID:10002300-1772879400-1772886600@dcfs.lacounty.gov
SUMMARY:Resource Family Approval Foster Parent Orientation
DESCRIPTION:YOU’RE INVITED\nJoin us for a FREE in person resource family orientation.\nHear from the Department of Children and Family Services social workers. Learn about the process of becoming\na foster parent and have your questions answered. \nTo RSVP\, scan the QR code or call (888) 811-1121.
URL:https://dcfs.lacounty.gov/event/resource-family-approval-foster-parent-orientation-2/
LOCATION:Downey City Library Cormack Room\, 11121 Brookshire Avenue\, Downey\, 90241
CATEGORIES:General
ATTACH;FMTTYPE=image/jpeg:https://dcfs.lacounty.gov/wp-content/uploads/2026/02/Downey-City-Library-FP-Orientation-Flyer-Revised-March-7.jpg
END:VEVENT
END:VCALENDAR